BEGIN:VCALENDAR
VERSION:2.0
PRODID:-//Senpaq&#039;cin School - ECPv6.11.2.1//NONSGML v1.0//EN
CALSCALE:GREGORIAN
METHOD:PUBLISH
X-ORIGINAL-URL:https://senpokchin.ca
X-WR-CALDESC:Events for Senpaq&#039;cin School
REFRESH-INTERVAL;VALUE=DURATION:PT1H
X-Robots-Tag:noindex
X-PUBLISHED-TTL:PT1H
BEGIN:VTIMEZONE
TZID:America/Vancouver
BEGIN:DAYLIGHT
TZOFFSETFROM:-0800
TZOFFSETTO:-0700
TZNAME:PDT
DTSTART:20220313T100000
END:DAYLIGHT
BEGIN:STANDARD
TZOFFSETFROM:-0700
TZOFFSETTO:-0800
TZNAME:PST
DTSTART:20221106T090000
END:STANDARD
BEGIN:DAYLIGHT
TZOFFSETFROM:-0800
TZOFFSETTO:-0700
TZNAME:PDT
DTSTART:20230312T100000
END:DAYLIGHT
BEGIN:STANDARD
TZOFFSETFROM:-0700
TZOFFSETTO:-0800
TZNAME:PST
DTSTART:20231105T090000
END:STANDARD
END:VTIMEZONE
BEGIN:VEVENT
DTSTART;TZID=America/Vancouver:20221011T120000
DTEND;TZID=America/Vancouver:20221011T130000
DTSTAMP:20260421T011853
CREATED:20221005T212606Z
LAST-MODIFIED:20221027T182558Z
UID:683-1665489600-1665493200@senpokchin.ca
SUMMARY:Taco + Veggies
DESCRIPTION:
URL:https://senpokchin.ca/event/taco-veggies/
END:VEVENT
BEGIN:VEVENT
DTSTART;TZID=America/Vancouver:20221011T120000
DTEND;TZID=America/Vancouver:20221011T130000
DTSTAMP:20260421T011853
CREATED:20221005T212606Z
LAST-MODIFIED:20221027T182558Z
UID:683-1665489600-1665493200@senpokchin.ca
SUMMARY:Taco + Veggies
DESCRIPTION:
URL:https://senpokchin.ca/event/taco-veggies/
END:VEVENT
BEGIN:VEVENT
DTSTART;TZID=America/Vancouver:20221011T120000
DTEND;TZID=America/Vancouver:20221011T130000
DTSTAMP:20260421T011853
CREATED:20221005T212606Z
LAST-MODIFIED:20221027T182558Z
UID:683-1665489600-1665493200@senpokchin.ca
SUMMARY:Taco + Veggies
DESCRIPTION:
URL:https://senpokchin.ca/event/taco-veggies/
END:VEVENT
BEGIN:VEVENT
DTSTART;TZID=America/Vancouver:20221011T120000
DTEND;TZID=America/Vancouver:20221011T130000
DTSTAMP:20260421T011853
CREATED:20221005T212606Z
LAST-MODIFIED:20221027T182558Z
UID:683-1665489600-1665493200@senpokchin.ca
SUMMARY:Taco + Veggies
DESCRIPTION:
URL:https://senpokchin.ca/event/taco-veggies/
END:VEVENT
BEGIN:VEVENT
DTSTART;TZID=America/Vancouver:20221011T120000
DTEND;TZID=America/Vancouver:20221011T130000
DTSTAMP:20260421T011853
CREATED:20221005T212606Z
LAST-MODIFIED:20221027T182558Z
UID:683-1665489600-1665493200@senpokchin.ca
SUMMARY:Taco + Veggies
DESCRIPTION:
URL:https://senpokchin.ca/event/taco-veggies/
END:VEVENT
BEGIN:VEVENT
DTSTART;TZID=America/Vancouver:20221011T120000
DTEND;TZID=America/Vancouver:20221011T130000
DTSTAMP:20260421T011853
CREATED:20221005T212606Z
LAST-MODIFIED:20221027T182558Z
UID:683-1665489600-1665493200@senpokchin.ca
SUMMARY:Taco + Veggies
DESCRIPTION:
URL:https://senpokchin.ca/event/taco-veggies/
END:VEVENT
BEGIN:VEVENT
DTSTART;TZID=America/Vancouver:20221011T120000
DTEND;TZID=America/Vancouver:20221011T130000
DTSTAMP:20260421T011853
CREATED:20221005T212606Z
LAST-MODIFIED:20221027T182558Z
UID:683-1665489600-1665493200@senpokchin.ca
SUMMARY:Taco + Veggies
DESCRIPTION:
URL:https://senpokchin.ca/event/taco-veggies/
END:VEVENT
BEGIN:VEVENT
DTSTART;TZID=America/Vancouver:20221011T120000
DTEND;TZID=America/Vancouver:20221011T130000
DTSTAMP:20260421T011853
CREATED:20221005T212606Z
LAST-MODIFIED:20221027T182558Z
UID:683-1665489600-1665493200@senpokchin.ca
SUMMARY:Taco + Veggies
DESCRIPTION:
URL:https://senpokchin.ca/event/taco-veggies/
END:VEVENT
BEGIN:VEVENT
DTSTART;TZID=America/Vancouver:20221011T120000
DTEND;TZID=America/Vancouver:20221011T130000
DTSTAMP:20260421T011853
CREATED:20221005T212606Z
LAST-MODIFIED:20221027T182558Z
UID:683-1665489600-1665493200@senpokchin.ca
SUMMARY:Taco + Veggies
DESCRIPTION:
URL:https://senpokchin.ca/event/taco-veggies/
END:VEVENT
BEGIN:VEVENT
DTSTART;TZID=America/Vancouver:20221011T120000
DTEND;TZID=America/Vancouver:20221011T130000
DTSTAMP:20260421T011853
CREATED:20221005T212606Z
LAST-MODIFIED:20221027T182558Z
UID:683-1665489600-1665493200@senpokchin.ca
SUMMARY:Taco + Veggies
DESCRIPTION:
URL:https://senpokchin.ca/event/taco-veggies/
END:VEVENT
BEGIN:VEVENT
DTSTART;TZID=America/Vancouver:20221011T120000
DTEND;TZID=America/Vancouver:20221011T130000
DTSTAMP:20260421T011853
CREATED:20221005T212606Z
LAST-MODIFIED:20221027T182558Z
UID:683-1665489600-1665493200@senpokchin.ca
SUMMARY:Taco + Veggies
DESCRIPTION:
URL:https://senpokchin.ca/event/taco-veggies/
END:VEVENT
BEGIN:VEVENT
DTSTART;TZID=America/Vancouver:20230629T083000
DTEND;TZID=America/Vancouver:20230629T120000
DTSTAMP:20260421T011853
CREATED:20230616T195102Z
LAST-MODIFIED:20230616T195103Z
UID:1090-1688027400-1688040000@senpokchin.ca
SUMMARY:Last Day of Classes- Early Dismissal 12:00 pm
DESCRIPTION:
URL:https://senpokchin.ca/event/last-day-of-classes-early-dismissal-1200-pm/
END:VEVENT
BEGIN:VEVENT
DTSTART;TZID=America/Vancouver:20230628T130000
DTEND;TZID=America/Vancouver:20230628T143000
DTSTAMP:20260421T011853
CREATED:20230616T194946Z
LAST-MODIFIED:20230616T194947Z
UID:1088-1687957200-1687962600@senpokchin.ca
SUMMARY:Whole School Swim
DESCRIPTION:
URL:https://senpokchin.ca/event/whole-school-swim/
END:VEVENT
BEGIN:VEVENT
DTSTART;TZID=America/Vancouver:20230628T120000
DTEND;TZID=America/Vancouver:20230628T130000
DTSTAMP:20260421T011853
CREATED:20230616T200145Z
LAST-MODIFIED:20230616T200145Z
UID:1114-1687953600-1687957200@senpokchin.ca
SUMMARY:Lunch: Mac N Cheese + Veggies
DESCRIPTION:
URL:https://senpokchin.ca/event/lunch-mac-n-cheese-veggies-4/
END:VEVENT
BEGIN:VEVENT
DTSTART;TZID=America/Vancouver:20230628T084500
DTEND;TZID=America/Vancouver:20230628T150000
DTSTAMP:20260421T011853
CREATED:20230616T194900Z
LAST-MODIFIED:20230616T194900Z
UID:1086-1687941900-1687964400@senpokchin.ca
SUMMARY:Gr.6/7  SOSA Summerland
DESCRIPTION:
URL:https://senpokchin.ca/event/gr-6-7-sosa-summerland/
END:VEVENT
BEGIN:VEVENT
DTSTART;TZID=America/Vancouver:20230627T123000
DTEND;TZID=America/Vancouver:20230627T150000
DTSTAMP:20260421T011853
CREATED:20230616T194731Z
LAST-MODIFIED:20230616T194731Z
UID:1084-1687869000-1687878000@senpokchin.ca
SUMMARY:Gr. 6/7 Canoeing
DESCRIPTION:
URL:https://senpokchin.ca/event/gr-6-7-canoeing/
END:VEVENT
BEGIN:VEVENT
DTSTART;TZID=America/Vancouver:20221011T120000
DTEND;TZID=America/Vancouver:20221011T130000
DTSTAMP:20260421T011853
CREATED:20221005T212606Z
LAST-MODIFIED:20221027T182558Z
UID:683-1665489600-1665493200@senpokchin.ca
SUMMARY:Taco + Veggies
DESCRIPTION:
URL:https://senpokchin.ca/event/taco-veggies/
END:VEVENT
BEGIN:VEVENT
DTSTART;TZID=America/Vancouver:20230626T140000
DTEND;TZID=America/Vancouver:20230626T143000
DTSTAMP:20260421T011853
CREATED:20230616T194627Z
LAST-MODIFIED:20230616T194627Z
UID:1082-1687788000-1687789800@senpokchin.ca
SUMMARY:Gr.3 Swimming
DESCRIPTION:
URL:https://senpokchin.ca/event/gr-3-swimming-2/
END:VEVENT
BEGIN:VEVENT
DTSTART;TZID=America/Vancouver:20230626T120000
DTEND;TZID=America/Vancouver:20230626T130000
DTSTAMP:20260421T011853
CREATED:20230616T200046Z
LAST-MODIFIED:20230616T200047Z
UID:1112-1687780800-1687784400@senpokchin.ca
SUMMARY:Lunch: Italian Wedding Soup + Bun
DESCRIPTION:
URL:https://senpokchin.ca/event/lunch-italian-wedding-soup-bun-2/
END:VEVENT
BEGIN:VEVENT
DTSTART;TZID=America/Vancouver:20230626T113000
DTEND;TZID=America/Vancouver:20230626T170000
DTSTAMP:20260421T011853
CREATED:20230616T194429Z
LAST-MODIFIED:20230616T194429Z
UID:1079-1687779000-1687798800@senpokchin.ca
SUMMARY:Gr.7 Grad Ceremony
DESCRIPTION:
URL:https://senpokchin.ca/event/gr-7-grad-ceremony/
END:VEVENT
BEGIN:VEVENT
DTSTART;TZID=America/Vancouver:20230623T140000
DTEND;TZID=America/Vancouver:20230623T143000
DTSTAMP:20260421T011853
CREATED:20230616T193231Z
LAST-MODIFIED:20230616T193232Z
UID:1075-1687528800-1687530600@senpokchin.ca
SUMMARY:Gr. 3 Swimming
DESCRIPTION:
URL:https://senpokchin.ca/event/gr-3-swimming/
END:VEVENT
BEGIN:VEVENT
DTSTART;TZID=America/Vancouver:20230623T120000
DTEND;TZID=America/Vancouver:20230623T140000
DTSTAMP:20260421T011853
CREATED:20230616T195950Z
LAST-MODIFIED:20230616T195951Z
UID:1110-1687521600-1687528800@senpokchin.ca
SUMMARY:lunch: Pizza + Veggies
DESCRIPTION:
URL:https://senpokchin.ca/event/lunch-pizza-veggies-3/
END:VEVENT
BEGIN:VEVENT
DTSTART;TZID=America/Vancouver:20230623T083000
DTEND;TZID=America/Vancouver:20230623T143000
DTSTAMP:20260421T011853
CREATED:20230616T193347Z
LAST-MODIFIED:20230616T193347Z
UID:1077-1687509000-1687530600@senpokchin.ca
SUMMARY:Gr.2 and Gr.4  Siya Celebration Field Trip
DESCRIPTION:
URL:https://senpokchin.ca/event/gr-2-and-gr-4-siya-celebration-field-trip/
END:VEVENT
BEGIN:VEVENT
DTSTART;TZID=America/Vancouver:20230622T120000
DTEND;TZID=America/Vancouver:20230622T130000
DTSTAMP:20260421T011853
CREATED:20230616T195900Z
LAST-MODIFIED:20230616T195901Z
UID:1108-1687435200-1687438800@senpokchin.ca
SUMMARY:Lunch: Beef Bunwich + Veggies
DESCRIPTION:
URL:https://senpokchin.ca/event/lunch-beef-bunwich-veggies-3/
END:VEVENT
BEGIN:VEVENT
DTSTART;TZID=America/Vancouver:20230621T120000
DTEND;TZID=America/Vancouver:20230621T130000
DTSTAMP:20260421T011853
CREATED:20230616T195809Z
LAST-MODIFIED:20230616T195810Z
UID:1106-1687348800-1687352400@senpokchin.ca
SUMMARY:Lunch: Lasagna + veggies
DESCRIPTION:
URL:https://senpokchin.ca/event/lunch-lasagna-veggies-4/
END:VEVENT
BEGIN:VEVENT
DTSTART;TZID=America/Vancouver:20230620T130000
DTEND;TZID=America/Vancouver:20230620T150000
DTSTAMP:20260421T011853
CREATED:20230616T193141Z
LAST-MODIFIED:20230616T193141Z
UID:1073-1687266000-1687273200@senpokchin.ca
SUMMARY:Gr. 5/6 Canoeing
DESCRIPTION:
URL:https://senpokchin.ca/event/gr-5-6-canoeing/
END:VEVENT
BEGIN:VEVENT
DTSTART;TZID=America/Vancouver:20221011T120000
DTEND;TZID=America/Vancouver:20221011T130000
DTSTAMP:20260421T011853
CREATED:20221005T212606Z
LAST-MODIFIED:20221027T182558Z
UID:683-1665489600-1665493200@senpokchin.ca
SUMMARY:Taco + Veggies
DESCRIPTION:
URL:https://senpokchin.ca/event/taco-veggies/
END:VEVENT
BEGIN:VEVENT
DTSTART;TZID=America/Vancouver:20230620T083000
DTEND;TZID=America/Vancouver:20230623T170000
DTSTAMP:20260421T011853
CREATED:20230616T192941Z
LAST-MODIFIED:20230616T192941Z
UID:1071-1687249800-1687539600@senpokchin.ca
SUMMARY:Gr. 6/7 Year End Field Trip
DESCRIPTION:
URL:https://senpokchin.ca/event/gr-6-7-year-end-field-trip/
END:VEVENT
BEGIN:VEVENT
DTSTART;TZID=America/Vancouver:20230619T140000
DTEND;TZID=America/Vancouver:20230619T143000
DTSTAMP:20260421T011853
CREATED:20230616T192651Z
LAST-MODIFIED:20230616T192652Z
UID:1069-1687183200-1687185000@senpokchin.ca
SUMMARY:Grade 4 Swimming
DESCRIPTION:
URL:https://senpokchin.ca/event/grade-4-swimming/
END:VEVENT
BEGIN:VEVENT
DTSTART;TZID=America/Vancouver:20230619T120000
DTEND;TZID=America/Vancouver:20230619T130000
DTSTAMP:20260421T011853
CREATED:20230616T195709Z
LAST-MODIFIED:20230616T195709Z
UID:1104-1687176000-1687179600@senpokchin.ca
SUMMARY:Lunch: Lasagne Soup + Bun
DESCRIPTION:
URL:https://senpokchin.ca/event/lunch-lasagne-soup-bun/
END:VEVENT
END:VCALENDAR