BEGIN:VCALENDAR
VERSION:2.0
PRODID:-//Senpaq&#039;cin School - ECPv6.11.2.1//NONSGML v1.0//EN
CALSCALE:GREGORIAN
METHOD:PUBLISH
X-WR-CALNAME:Senpaq&#039;cin School
X-ORIGINAL-URL:https://senpokchin.ca
X-WR-CALDESC:Events for Senpaq&#039;cin School
REFRESH-INTERVAL;VALUE=DURATION:PT1H
X-Robots-Tag:noindex
X-PUBLISHED-TTL:PT1H
BEGIN:VTIMEZONE
TZID:America/Vancouver
BEGIN:DAYLIGHT
TZOFFSETFROM:-0800
TZOFFSETTO:-0700
TZNAME:PDT
DTSTART:20220313T100000
END:DAYLIGHT
BEGIN:STANDARD
TZOFFSETFROM:-0700
TZOFFSETTO:-0800
TZNAME:PST
DTSTART:20221106T090000
END:STANDARD
END:VTIMEZONE
BEGIN:VEVENT
DTSTART;TZID=America/Vancouver:20221114T120000
DTEND;TZID=America/Vancouver:20221114T130000
DTSTAMP:20260422T002452
CREATED:20221027T213454Z
LAST-MODIFIED:20221027T213455Z
UID:771-1668427200-1668430800@senpokchin.ca
SUMMARY:Chicken Gnocchi Soup + Bun
DESCRIPTION:
URL:https://senpokchin.ca/event/chicken-gnocchi-soup-bun/
END:VEVENT
BEGIN:VEVENT
DTSTART;TZID=America/Vancouver:20221111T000000
DTEND;TZID=America/Vancouver:20221111T235959
DTSTAMP:20260422T002452
CREATED:20221006T175037Z
LAST-MODIFIED:20221006T181951Z
UID:712-1668124800-1668211199@senpokchin.ca
SUMMARY:Remembrance Day
DESCRIPTION:
URL:https://senpokchin.ca/event/rememberance-day/
END:VEVENT
BEGIN:VEVENT
DTSTART;TZID=America/Vancouver:20221110T180000
DTEND;TZID=America/Vancouver:20221110T190000
DTSTAMP:20260422T002452
CREATED:20221028T165424Z
LAST-MODIFIED:20221028T165424Z
UID:795-1668103200-1668106800@senpokchin.ca
SUMMARY:PAC Meeting
DESCRIPTION:
URL:https://senpokchin.ca/event/pac-meeting/
END:VEVENT
BEGIN:VEVENT
DTSTART;TZID=America/Vancouver:20221103T120000
DTEND;TZID=America/Vancouver:20221103T130000
DTSTAMP:20260422T002452
CREATED:20221028T163951Z
LAST-MODIFIED:20221028T163952Z
UID:785-1667476800-1667480400@senpokchin.ca
SUMMARY:Chili/Bun/Veggies
DESCRIPTION:
URL:https://senpokchin.ca/event/chili-bun-veggies/
END:VEVENT
BEGIN:VEVENT
DTSTART;TZID=America/Vancouver:20221110T090000
DTEND;TZID=America/Vancouver:20221110T100000
DTSTAMP:20260422T002452
CREATED:20221028T170439Z
LAST-MODIFIED:20221028T222549Z
UID:797-1668070800-1668074400@senpokchin.ca
SUMMARY:Remembrance Day Ceremony
DESCRIPTION:
URL:https://senpokchin.ca/event/remembrance-day-ceremony/
END:VEVENT
BEGIN:VEVENT
DTSTART;TZID=America/Vancouver:20221109T120000
DTEND;TZID=America/Vancouver:20221109T130000
DTSTAMP:20260422T002452
CREATED:20221028T162846Z
LAST-MODIFIED:20221028T162847Z
UID:778-1667995200-1667998800@senpokchin.ca
SUMMARY:Lasagna / Veggies
DESCRIPTION:
URL:https://senpokchin.ca/event/lasagna-veggies/
END:VEVENT
BEGIN:VEVENT
DTSTART;TZID=America/Vancouver:20221011T120000
DTEND;TZID=America/Vancouver:20221011T130000
DTSTAMP:20260422T002452
CREATED:20221005T212606Z
LAST-MODIFIED:20221027T182558Z
UID:683-1665489600-1665493200@senpokchin.ca
SUMMARY:Taco + Veggies
DESCRIPTION:
URL:https://senpokchin.ca/event/taco-veggies/
END:VEVENT
BEGIN:VEVENT
DTSTART;TZID=America/Vancouver:20221108T080000
DTEND;TZID=America/Vancouver:20221108T160000
DTSTAMP:20260422T002452
CREATED:20221027T211815Z
LAST-MODIFIED:20221027T211815Z
UID:759-1667894400-1667923200@senpokchin.ca
SUMMARY:Veteran's Day
DESCRIPTION:
URL:https://senpokchin.ca/event/veterans-day/
END:VEVENT
BEGIN:VEVENT
DTSTART;TZID=America/Vancouver:20221107T120000
DTEND;TZID=America/Vancouver:20221107T130000
DTSTAMP:20260422T002452
CREATED:20221027T213239Z
LAST-MODIFIED:20221027T213240Z
UID:769-1667822400-1667826000@senpokchin.ca
SUMMARY:Sausage Tortellini Soup + Bun
DESCRIPTION:
URL:https://senpokchin.ca/event/sausage-tortellini-soup-bun/
END:VEVENT
BEGIN:VEVENT
DTSTART;TZID=America/Vancouver:20221107T080000
DTEND;TZID=America/Vancouver:20221107T170000
DTSTAMP:20260422T002452
CREATED:20221028T170903Z
LAST-MODIFIED:20221028T170904Z
UID:799-1667808000-1667840400@senpokchin.ca
SUMMARY:Photo Retake Day
DESCRIPTION:Call into the office to put your child on the list for photo retakes
URL:https://senpokchin.ca/event/photo-retake-day/
END:VEVENT
BEGIN:VEVENT
DTSTART;TZID=America/Vancouver:20221104T120000
DTEND;TZID=America/Vancouver:20221104T130000
DTSTAMP:20260422T002452
CREATED:20221028T164724Z
LAST-MODIFIED:20221028T164725Z
UID:788-1667563200-1667566800@senpokchin.ca
SUMMARY:Grilled Cheese/Veggies
DESCRIPTION:
URL:https://senpokchin.ca/event/grilled-cheese-veggies-2/
END:VEVENT
BEGIN:VEVENT
DTSTART;TZID=America/Vancouver:20221104T090000
DTEND;TZID=America/Vancouver:20221104T150000
DTSTAMP:20260422T002452
CREATED:20221027T170200Z
LAST-MODIFIED:20221027T170430Z
UID:750-1667552400-1667574000@senpokchin.ca
SUMMARY:Moccasin Mile Run
DESCRIPTION:K5 – Gr.7 – Dress for the weather and a bag lunch is needed
URL:https://senpokchin.ca/event/moccasin-mile-run/
END:VEVENT
BEGIN:VEVENT
DTSTART;TZID=America/Vancouver:20221103T120000
DTEND;TZID=America/Vancouver:20221103T130000
DTSTAMP:20260422T002452
CREATED:20221028T163951Z
LAST-MODIFIED:20221028T163952Z
UID:785-1667476800-1667480400@senpokchin.ca
SUMMARY:Chili/Bun/Veggies
DESCRIPTION:
URL:https://senpokchin.ca/event/chili-bun-veggies/
END:VEVENT
BEGIN:VEVENT
DTSTART;TZID=America/Vancouver:20221103T080000
DTEND;TZID=America/Vancouver:20221103T160000
DTSTAMP:20260422T002452
CREATED:20221027T212540Z
LAST-MODIFIED:20221027T212540Z
UID:767-1667462400-1667491200@senpokchin.ca
SUMMARY:Gr. 6 Immunizations
DESCRIPTION:
URL:https://senpokchin.ca/event/gr-6-immunizations/
END:VEVENT
BEGIN:VEVENT
DTSTART;TZID=America/Vancouver:20221011T120000
DTEND;TZID=America/Vancouver:20221011T130000
DTSTAMP:20260422T002452
CREATED:20221005T212606Z
LAST-MODIFIED:20221027T182558Z
UID:683-1665489600-1665493200@senpokchin.ca
SUMMARY:Taco + Veggies
DESCRIPTION:
URL:https://senpokchin.ca/event/taco-veggies/
END:VEVENT
BEGIN:VEVENT
DTSTART;TZID=America/Vancouver:20221031T080000
DTEND;TZID=America/Vancouver:20221031T170000
DTSTAMP:20260422T002452
CREATED:20221005T214840Z
LAST-MODIFIED:20221005T214841Z
UID:705-1667203200-1667235600@senpokchin.ca
SUMMARY:Italian Wedding Soup + Bun
DESCRIPTION:
URL:https://senpokchin.ca/event/italian-wedding-soup-bun/
END:VEVENT
BEGIN:VEVENT
DTSTART;TZID=America/Vancouver:20221031T080000
DTEND;TZID=America/Vancouver:20221031T150000
DTSTAMP:20260422T002452
CREATED:20221027T165032Z
LAST-MODIFIED:20221027T165032Z
UID:743-1667203200-1667228400@senpokchin.ca
SUMMARY:Halloween
DESCRIPTION:Students can wear costumes
URL:https://senpokchin.ca/event/halloween/
END:VEVENT
BEGIN:VEVENT
DTSTART;TZID=America/Vancouver:20221028T120000
DTEND;TZID=America/Vancouver:20221028T130000
DTSTAMP:20260422T002452
CREATED:20221005T214728Z
LAST-MODIFIED:20221005T214729Z
UID:702-1666958400-1666962000@senpokchin.ca
SUMMARY:Pizza + veggies
DESCRIPTION:
URL:https://senpokchin.ca/event/pizza-veggies/
END:VEVENT
BEGIN:VEVENT
DTSTART;TZID=America/Vancouver:20221006T120000
DTEND;TZID=America/Vancouver:20221006T130000
DTSTAMP:20260422T002452
CREATED:20221005T211832Z
LAST-MODIFIED:20221005T211833Z
UID:676-1665057600-1665061200@senpokchin.ca
SUMMARY:Chilli+Bun+Veggies
DESCRIPTION:
URL:https://senpokchin.ca/event/chillibunveggies/
CATEGORIES:Lunch Program
END:VEVENT
BEGIN:VEVENT
DTSTART;TZID=America/Vancouver:20221027T090000
DTEND;TZID=America/Vancouver:20221027T120000
DTSTAMP:20260422T002452
CREATED:20221027T165712Z
LAST-MODIFIED:20221027T165712Z
UID:745-1666861200-1666872000@senpokchin.ca
SUMMARY:Tea Picking Field Trip
DESCRIPTION:wear warm clothing
URL:https://senpokchin.ca/event/tea-picking-field-trip/
END:VEVENT
BEGIN:VEVENT
DTSTART;TZID=America/Vancouver:20221026T080000
DTEND;TZID=America/Vancouver:20221026T170000
DTSTAMP:20260422T002452
CREATED:20221005T214529Z
LAST-MODIFIED:20221005T222909Z
UID:699-1666771200-1666803600@senpokchin.ca
SUMMARY:Teacher Inquiry Day
DESCRIPTION:
URL:https://senpokchin.ca/event/teacher-inquiry-day/
END:VEVENT
BEGIN:VEVENT
DTSTART;TZID=America/Vancouver:20221011T120000
DTEND;TZID=America/Vancouver:20221011T130000
DTSTAMP:20260422T002452
CREATED:20221005T212606Z
LAST-MODIFIED:20221027T182558Z
UID:683-1665489600-1665493200@senpokchin.ca
SUMMARY:Taco + Veggies
DESCRIPTION:
URL:https://senpokchin.ca/event/taco-veggies/
END:VEVENT
BEGIN:VEVENT
DTSTART;TZID=America/Vancouver:20221024T120000
DTEND;TZID=America/Vancouver:20221024T130000
DTSTAMP:20260422T002452
CREATED:20221005T214406Z
LAST-MODIFIED:20221005T214407Z
UID:697-1666612800-1666616400@senpokchin.ca
SUMMARY:Pork Egg Noodle Soup
DESCRIPTION:
URL:https://senpokchin.ca/event/pork-egg-noodle-soup/
END:VEVENT
BEGIN:VEVENT
DTSTART;TZID=America/Vancouver:20221021T083000
DTEND;TZID=America/Vancouver:20221021T150000
DTSTAMP:20260422T002452
CREATED:20221005T214249Z
LAST-MODIFIED:20221005T214250Z
UID:695-1666341000-1666364400@senpokchin.ca
SUMMARY:Non-Instructional Day
DESCRIPTION:
URL:https://senpokchin.ca/event/non-instructional-day/
END:VEVENT
BEGIN:VEVENT
DTSTART;TZID=America/Vancouver:20221006T120000
DTEND;TZID=America/Vancouver:20221006T130000
DTSTAMP:20260422T002452
CREATED:20221005T211832Z
LAST-MODIFIED:20221005T211833Z
UID:676-1665057600-1665061200@senpokchin.ca
SUMMARY:Chilli+Bun+Veggies
DESCRIPTION:
URL:https://senpokchin.ca/event/chillibunveggies/
CATEGORIES:Lunch Program
END:VEVENT
BEGIN:VEVENT
DTSTART;TZID=America/Vancouver:20221019T080000
DTEND;TZID=America/Vancouver:20221019T170000
DTSTAMP:20260422T002452
CREATED:20221005T213934Z
LAST-MODIFIED:20221005T213935Z
UID:691-1666166400-1666198800@senpokchin.ca
SUMMARY:Lasagna + Salad + Veggies
DESCRIPTION:
URL:https://senpokchin.ca/event/lasagna-salad-veggies/
END:VEVENT
BEGIN:VEVENT
DTSTART;TZID=America/Vancouver:20221011T120000
DTEND;TZID=America/Vancouver:20221011T130000
DTSTAMP:20260422T002452
CREATED:20221005T212606Z
LAST-MODIFIED:20221027T182558Z
UID:683-1665489600-1665493200@senpokchin.ca
SUMMARY:Taco + Veggies
DESCRIPTION:
URL:https://senpokchin.ca/event/taco-veggies/
END:VEVENT
BEGIN:VEVENT
DTSTART;TZID=America/Vancouver:20221017T120000
DTEND;TZID=America/Vancouver:20221017T130000
DTSTAMP:20260422T002452
CREATED:20221005T213047Z
LAST-MODIFIED:20221005T213048Z
UID:689-1666008000-1666011600@senpokchin.ca
SUMMARY:Beef Potato Soup
DESCRIPTION:
URL:https://senpokchin.ca/event/beef-potato-soup/
END:VEVENT
BEGIN:VEVENT
DTSTART;TZID=America/Vancouver:20221007T003000
DTEND;TZID=America/Vancouver:20221007T010000
DTSTAMP:20260422T002452
CREATED:20221005T212322Z
LAST-MODIFIED:20221005T212322Z
UID:679-1665102600-1665104400@senpokchin.ca
SUMMARY:Grilled Cheese + Veggies
DESCRIPTION:
URL:https://senpokchin.ca/event/grilled-cheese-veggies/
END:VEVENT
BEGIN:VEVENT
DTSTART;TZID=America/Vancouver:20221006T120000
DTEND;TZID=America/Vancouver:20221006T130000
DTSTAMP:20260422T002452
CREATED:20221005T211832Z
LAST-MODIFIED:20221005T211833Z
UID:676-1665057600-1665061200@senpokchin.ca
SUMMARY:Chilli+Bun+Veggies
DESCRIPTION:
URL:https://senpokchin.ca/event/chillibunveggies/
CATEGORIES:Lunch Program
END:VEVENT
END:VCALENDAR