BEGIN:VCALENDAR
VERSION:2.0
PRODID:-//Senpaq&#039;cin School - ECPv6.11.2.1//NONSGML v1.0//EN
CALSCALE:GREGORIAN
METHOD:PUBLISH
X-ORIGINAL-URL:https://senpokchin.ca
X-WR-CALDESC:Events for Senpaq&#039;cin School
REFRESH-INTERVAL;VALUE=DURATION:PT1H
X-Robots-Tag:noindex
X-PUBLISHED-TTL:PT1H
BEGIN:VTIMEZONE
TZID:America/Vancouver
BEGIN:DAYLIGHT
TZOFFSETFROM:-0800
TZOFFSETTO:-0700
TZNAME:PDT
DTSTART:20220313T100000
END:DAYLIGHT
BEGIN:STANDARD
TZOFFSETFROM:-0700
TZOFFSETTO:-0800
TZNAME:PST
DTSTART:20221106T090000
END:STANDARD
END:VTIMEZONE
BEGIN:VEVENT
DTSTART;TZID=America/Vancouver:20221219T080000
DTEND;TZID=America/Vancouver:20221219T170000
DTSTAMP:20260421T195211
CREATED:20221205T233140Z
LAST-MODIFIED:20221205T233352Z
UID:812-1671436800-1671469200@senpokchin.ca
SUMMARY:Winter Break
DESCRIPTION:
URL:https://senpokchin.ca/event/winter-break/
END:VEVENT
BEGIN:VEVENT
DTSTART;TZID=America/Vancouver:20221219T080000
DTEND;TZID=America/Vancouver:20221219T170000
DTSTAMP:20260421T195211
CREATED:20221205T233140Z
LAST-MODIFIED:20221205T233352Z
UID:812-1671436800-1671469200@senpokchin.ca
SUMMARY:Winter Break
DESCRIPTION:
URL:https://senpokchin.ca/event/winter-break/
END:VEVENT
BEGIN:VEVENT
DTSTART;TZID=America/Vancouver:20221225T000000
DTEND;TZID=America/Vancouver:20221225T235959
DTSTAMP:20260421T195211
CREATED:20221006T202619Z
LAST-MODIFIED:20221006T202620Z
UID:717-1671926400-1672012799@senpokchin.ca
SUMMARY:Christmas Day
DESCRIPTION:
URL:https://senpokchin.ca/event/christmas-day/
END:VEVENT
BEGIN:VEVENT
DTSTART;TZID=America/Vancouver:20221219T080000
DTEND;TZID=America/Vancouver:20221219T170000
DTSTAMP:20260421T195211
CREATED:20221205T233140Z
LAST-MODIFIED:20221205T233352Z
UID:812-1671436800-1671469200@senpokchin.ca
SUMMARY:Winter Break
DESCRIPTION:
URL:https://senpokchin.ca/event/winter-break/
END:VEVENT
BEGIN:VEVENT
DTSTART;TZID=America/Vancouver:20221219T080000
DTEND;TZID=America/Vancouver:20221219T170000
DTSTAMP:20260421T195211
CREATED:20221205T233140Z
LAST-MODIFIED:20221205T233352Z
UID:812-1671436800-1671469200@senpokchin.ca
SUMMARY:Winter Break
DESCRIPTION:
URL:https://senpokchin.ca/event/winter-break/
END:VEVENT
BEGIN:VEVENT
DTSTART;TZID=America/Vancouver:20221219T080000
DTEND;TZID=America/Vancouver:20221219T170000
DTSTAMP:20260421T195211
CREATED:20221205T233140Z
LAST-MODIFIED:20221205T233352Z
UID:812-1671436800-1671469200@senpokchin.ca
SUMMARY:Winter Break
DESCRIPTION:
URL:https://senpokchin.ca/event/winter-break/
END:VEVENT
BEGIN:VEVENT
DTSTART;TZID=America/Vancouver:20221219T080000
DTEND;TZID=America/Vancouver:20221219T170000
DTSTAMP:20260421T195211
CREATED:20221205T233140Z
LAST-MODIFIED:20221205T233352Z
UID:812-1671436800-1671469200@senpokchin.ca
SUMMARY:Winter Break
DESCRIPTION:
URL:https://senpokchin.ca/event/winter-break/
END:VEVENT
BEGIN:VEVENT
DTSTART;TZID=America/Vancouver:20221011T120000
DTEND;TZID=America/Vancouver:20221011T130000
DTSTAMP:20260421T195211
CREATED:20221005T212606Z
LAST-MODIFIED:20221027T182558Z
UID:683-1665489600-1665493200@senpokchin.ca
SUMMARY:Taco + Veggies
DESCRIPTION:
URL:https://senpokchin.ca/event/taco-veggies/
END:VEVENT
BEGIN:VEVENT
DTSTART;TZID=America/Vancouver:20221219T080000
DTEND;TZID=America/Vancouver:20221219T170000
DTSTAMP:20260421T195211
CREATED:20221205T233140Z
LAST-MODIFIED:20221205T233352Z
UID:812-1671436800-1671469200@senpokchin.ca
SUMMARY:Winter Break
DESCRIPTION:
URL:https://senpokchin.ca/event/winter-break/
END:VEVENT
BEGIN:VEVENT
DTSTART;TZID=America/Vancouver:20221219T080000
DTEND;TZID=America/Vancouver:20221219T170000
DTSTAMP:20260421T195211
CREATED:20221205T233140Z
LAST-MODIFIED:20221205T233352Z
UID:812-1671436800-1671469200@senpokchin.ca
SUMMARY:Winter Break
DESCRIPTION:
URL:https://senpokchin.ca/event/winter-break/
END:VEVENT
BEGIN:VEVENT
DTSTART;TZID=America/Vancouver:20221216T120000
DTEND;TZID=America/Vancouver:20221216T170000
DTSTAMP:20260421T195211
CREATED:20221205T235339Z
LAST-MODIFIED:20221205T235339Z
UID:833-1671192000-1671210000@senpokchin.ca
SUMMARY:Early Dismissal: Last day before Winter Break - 12:00
DESCRIPTION:
URL:https://senpokchin.ca/event/early-dismissal-last-day-before-winter-break-1200/
END:VEVENT
BEGIN:VEVENT
DTSTART;TZID=America/Vancouver:20221215T120000
DTEND;TZID=America/Vancouver:20221215T130000
DTSTAMP:20260421T195211
CREATED:20221205T234224Z
LAST-MODIFIED:20221205T234224Z
UID:827-1671105600-1671109200@senpokchin.ca
SUMMARY:Bunwitch with Roast Beef and Veggies
DESCRIPTION:
URL:https://senpokchin.ca/event/bunwitch-with-roast-beef-and-veggies/
END:VEVENT
BEGIN:VEVENT
DTSTART;TZID=America/Vancouver:20221214T120000
DTEND;TZID=America/Vancouver:20221214T130000
DTSTAMP:20260421T195211
CREATED:20221205T233808Z
LAST-MODIFIED:20221205T233808Z
UID:820-1671019200-1671022800@senpokchin.ca
SUMMARY:Turkey Dinner
DESCRIPTION:
URL:https://senpokchin.ca/event/turkey-dinner/
END:VEVENT
BEGIN:VEVENT
DTSTART;TZID=America/Vancouver:20221011T120000
DTEND;TZID=America/Vancouver:20221011T130000
DTSTAMP:20260421T195211
CREATED:20221005T212606Z
LAST-MODIFIED:20221027T182558Z
UID:683-1665489600-1665493200@senpokchin.ca
SUMMARY:Taco + Veggies
DESCRIPTION:
URL:https://senpokchin.ca/event/taco-veggies/
END:VEVENT
BEGIN:VEVENT
DTSTART;TZID=America/Vancouver:20221212T120000
DTEND;TZID=America/Vancouver:20221212T130000
DTSTAMP:20260421T195211
CREATED:20221205T232636Z
LAST-MODIFIED:20221205T232958Z
UID:807-1670846400-1670850000@senpokchin.ca
SUMMARY:Lunch: Tomato Noodle Veggie Soup
DESCRIPTION:
URL:https://senpokchin.ca/event/lunch/
END:VEVENT
BEGIN:VEVENT
DTSTART;TZID=America/Vancouver:20221209T120000
DTEND;TZID=America/Vancouver:20221209T130000
DTSTAMP:20260421T195211
CREATED:20221205T235053Z
LAST-MODIFIED:20221205T235130Z
UID:831-1670587200-1670590800@senpokchin.ca
SUMMARY:Pizza/Salad/Veggies
DESCRIPTION:
URL:https://senpokchin.ca/event/pizza-salad-veggies/
END:VEVENT
BEGIN:VEVENT
DTSTART;TZID=America/Vancouver:20221208T120000
DTEND;TZID=America/Vancouver:20221208T130000
DTSTAMP:20260421T195211
CREATED:20221205T234109Z
LAST-MODIFIED:20221205T234109Z
UID:824-1670500800-1670504400@senpokchin.ca
SUMMARY:Bunwitch with Pork and Veggies
DESCRIPTION:
URL:https://senpokchin.ca/event/bunwitch-with-pork-and-veggies/
END:VEVENT
BEGIN:VEVENT
DTSTART;TZID=America/Vancouver:20221207T120000
DTEND;TZID=America/Vancouver:20221207T130000
DTSTAMP:20260421T195211
CREATED:20221205T233656Z
LAST-MODIFIED:20221205T233657Z
UID:818-1670414400-1670418000@senpokchin.ca
SUMMARY:Mac N Cheese/Salad + veggies
DESCRIPTION:
URL:https://senpokchin.ca/event/mac-n-cheese-salad-veggies/
END:VEVENT
BEGIN:VEVENT
DTSTART;TZID=America/Vancouver:20221011T120000
DTEND;TZID=America/Vancouver:20221011T130000
DTSTAMP:20260421T195211
CREATED:20221005T212606Z
LAST-MODIFIED:20221027T182558Z
UID:683-1665489600-1665493200@senpokchin.ca
SUMMARY:Taco + Veggies
DESCRIPTION:
URL:https://senpokchin.ca/event/taco-veggies/
END:VEVENT
BEGIN:VEVENT
DTSTART;TZID=America/Vancouver:20221205T120000
DTEND;TZID=America/Vancouver:20221205T130000
DTSTAMP:20260421T195211
CREATED:20221205T225954Z
LAST-MODIFIED:20221205T232823Z
UID:803-1670241600-1670245200@senpokchin.ca
SUMMARY:Hamburger Soup + Bun
DESCRIPTION:Lunch
URL:https://senpokchin.ca/event/803/
END:VEVENT
BEGIN:VEVENT
DTSTART;TZID=America/Vancouver:20221202T120000
DTEND;TZID=America/Vancouver:20221202T130000
DTSTAMP:20260421T195211
CREATED:20221205T234953Z
LAST-MODIFIED:20221205T234954Z
UID:829-1669982400-1669986000@senpokchin.ca
SUMMARY:Grilled Cheese/Salad/Veggies
DESCRIPTION:
URL:https://senpokchin.ca/event/grilled-cheese-salad-veggies/
END:VEVENT
BEGIN:VEVENT
DTSTART;TZID=America/Vancouver:20221201T120000
DTEND;TZID=America/Vancouver:20221201T130000
DTSTAMP:20260421T195211
CREATED:20221205T233953Z
LAST-MODIFIED:20221205T233954Z
UID:822-1669896000-1669899600@senpokchin.ca
SUMMARY:Bunwitch with Chicken and Veggies
DESCRIPTION:
URL:https://senpokchin.ca/event/bunwitch-with-chicken-and-veggies/
END:VEVENT
BEGIN:VEVENT
DTSTART;TZID=America/Vancouver:20221130T120000
DTEND;TZID=America/Vancouver:20221130T160000
DTSTAMP:20260421T195211
CREATED:20221027T212425Z
LAST-MODIFIED:20221027T212426Z
UID:765-1669809600-1669824000@senpokchin.ca
SUMMARY:Teacher Inquiry Day
DESCRIPTION:Early Dismissal at 12:00
URL:https://senpokchin.ca/event/teacher-inquiry-day-2/
END:VEVENT
BEGIN:VEVENT
DTSTART;TZID=America/Vancouver:20221011T120000
DTEND;TZID=America/Vancouver:20221011T130000
DTSTAMP:20260421T195211
CREATED:20221005T212606Z
LAST-MODIFIED:20221027T182558Z
UID:683-1665489600-1665493200@senpokchin.ca
SUMMARY:Taco + Veggies
DESCRIPTION:
URL:https://senpokchin.ca/event/taco-veggies/
END:VEVENT
BEGIN:VEVENT
DTSTART;TZID=America/Vancouver:20221128T120000
DTEND;TZID=America/Vancouver:20221128T130000
DTSTAMP:20260421T195211
CREATED:20221027T213737Z
LAST-MODIFIED:20221027T213738Z
UID:775-1669636800-1669640400@senpokchin.ca
SUMMARY:Pork Egg Noodle Soup + Bun
DESCRIPTION:
URL:https://senpokchin.ca/event/pork-egg-noodle-soup-bun/
END:VEVENT
BEGIN:VEVENT
DTSTART;TZID=America/Vancouver:20221125T120000
DTEND;TZID=America/Vancouver:20221125T130000
DTSTAMP:20260421T195211
CREATED:20221028T165030Z
LAST-MODIFIED:20221028T165031Z
UID:792-1669377600-1669381200@senpokchin.ca
SUMMARY:Pizza/Veggies
DESCRIPTION:
URL:https://senpokchin.ca/event/pizza-veggies-2/
END:VEVENT
BEGIN:VEVENT
DTSTART;TZID=America/Vancouver:20221103T120000
DTEND;TZID=America/Vancouver:20221103T130000
DTSTAMP:20260421T195211
CREATED:20221028T163951Z
LAST-MODIFIED:20221028T163952Z
UID:785-1667476800-1667480400@senpokchin.ca
SUMMARY:Chili/Bun/Veggies
DESCRIPTION:
URL:https://senpokchin.ca/event/chili-bun-veggies/
END:VEVENT
BEGIN:VEVENT
DTSTART;TZID=America/Vancouver:20221123T120000
DTEND;TZID=America/Vancouver:20221123T130000
DTSTAMP:20260421T195211
CREATED:20221028T163255Z
LAST-MODIFIED:20221028T163255Z
UID:782-1669204800-1669208400@senpokchin.ca
SUMMARY:Shepperd's Pie/Veggies
DESCRIPTION:
URL:https://senpokchin.ca/event/shepperds-pie-veggies/
END:VEVENT
BEGIN:VEVENT
DTSTART;TZID=America/Vancouver:20221011T120000
DTEND;TZID=America/Vancouver:20221011T130000
DTSTAMP:20260421T195211
CREATED:20221005T212606Z
LAST-MODIFIED:20221027T182558Z
UID:683-1665489600-1665493200@senpokchin.ca
SUMMARY:Taco + Veggies
DESCRIPTION:
URL:https://senpokchin.ca/event/taco-veggies/
END:VEVENT
BEGIN:VEVENT
DTSTART;TZID=America/Vancouver:20221122T083000
DTEND;TZID=America/Vancouver:20221122T150000
DTSTAMP:20260421T195211
CREATED:20221027T212248Z
LAST-MODIFIED:20221027T212248Z
UID:763-1669105800-1669129200@senpokchin.ca
SUMMARY:sncewips Heritage Museum Field Trip
DESCRIPTION:Grades 5-7
URL:https://senpokchin.ca/event/sncewips-heritage-museum-field-trip/
END:VEVENT
END:VCALENDAR