BEGIN:VCALENDAR
VERSION:2.0
PRODID:-//Senpaq&#039;cin School - ECPv6.11.2.1//NONSGML v1.0//EN
CALSCALE:GREGORIAN
METHOD:PUBLISH
X-ORIGINAL-URL:https://senpokchin.ca
X-WR-CALDESC:Events for Senpaq&#039;cin School
REFRESH-INTERVAL;VALUE=DURATION:PT1H
X-Robots-Tag:noindex
X-PUBLISHED-TTL:PT1H
BEGIN:VTIMEZONE
TZID:America/Vancouver
BEGIN:DAYLIGHT
TZOFFSETFROM:-0800
TZOFFSETTO:-0700
TZNAME:PDT
DTSTART:20220313T100000
END:DAYLIGHT
BEGIN:STANDARD
TZOFFSETFROM:-0700
TZOFFSETTO:-0800
TZNAME:PST
DTSTART:20221106T090000
END:STANDARD
BEGIN:DAYLIGHT
TZOFFSETFROM:-0800
TZOFFSETTO:-0700
TZNAME:PDT
DTSTART:20230312T100000
END:DAYLIGHT
BEGIN:STANDARD
TZOFFSETFROM:-0700
TZOFFSETTO:-0800
TZNAME:PST
DTSTART:20231105T090000
END:STANDARD
END:VTIMEZONE
BEGIN:VEVENT
DTSTART;TZID=America/Vancouver:20230130T120000
DTEND;TZID=America/Vancouver:20230130T130000
DTSTAMP:20260421T155357
CREATED:20221208T221931Z
LAST-MODIFIED:20221208T221931Z
UID:869-1675080000-1675083600@senpokchin.ca
SUMMARY:Chicken Gnocchi Soup + Bun
DESCRIPTION:
URL:https://senpokchin.ca/event/chicken-gnocchi-soup-bun-2/
END:VEVENT
BEGIN:VEVENT
DTSTART;TZID=America/Vancouver:20230127T120000
DTEND;TZID=America/Vancouver:20230127T130000
DTSTAMP:20260421T155357
CREATED:20221208T221827Z
LAST-MODIFIED:20221208T221827Z
UID:867-1674820800-1674824400@senpokchin.ca
SUMMARY:Pizza + Veggies
DESCRIPTION:
URL:https://senpokchin.ca/event/pizza-veggies-3/
END:VEVENT
BEGIN:VEVENT
DTSTART;TZID=America/Vancouver:20230127T083000
DTEND;TZID=America/Vancouver:20230127T150000
DTSTAMP:20260421T155357
CREATED:20230117T231830Z
LAST-MODIFIED:20230117T231831Z
UID:885-1674808200-1674831600@senpokchin.ca
SUMMARY:Mt. Baldy Skiing Field Trip - Gr.5-7
DESCRIPTION:
URL:https://senpokchin.ca/event/mt-baldy-skiing-field-trip-gr-5-7-2/
END:VEVENT
BEGIN:VEVENT
DTSTART;TZID=America/Vancouver:20230126T170000
DTEND;TZID=America/Vancouver:20230126T183000
DTSTAMP:20260421T155357
CREATED:20230117T231421Z
LAST-MODIFIED:20230117T231422Z
UID:879-1674752400-1674757800@senpokchin.ca
SUMMARY:Connect Parenting Group
DESCRIPTION:
URL:https://senpokchin.ca/event/connect-parenting-group-3/
END:VEVENT
BEGIN:VEVENT
DTSTART;TZID=America/Vancouver:20230126T120000
DTEND;TZID=America/Vancouver:20230126T130000
DTSTAMP:20260421T155357
CREATED:20221208T221730Z
LAST-MODIFIED:20221208T221731Z
UID:865-1674734400-1674738000@senpokchin.ca
SUMMARY:Pork Bunwitch + Veggies
DESCRIPTION:
URL:https://senpokchin.ca/event/pork-bunwitch-veggies/
END:VEVENT
BEGIN:VEVENT
DTSTART;TZID=America/Vancouver:20230125T120000
DTEND;TZID=America/Vancouver:20230125T160000
DTSTAMP:20260421T155357
CREATED:20221208T221623Z
LAST-MODIFIED:20221208T221624Z
UID:863-1674648000-1674662400@senpokchin.ca
SUMMARY:Teacher Inquiry Day- Early Dismissal  12:00
DESCRIPTION:
URL:https://senpokchin.ca/event/teacher-inquiry-day-early-dismissal-1200/
END:VEVENT
BEGIN:VEVENT
DTSTART;TZID=America/Vancouver:20221011T120000
DTEND;TZID=America/Vancouver:20221011T130000
DTSTAMP:20260421T155357
CREATED:20221005T212606Z
LAST-MODIFIED:20221027T182558Z
UID:683-1665489600-1665493200@senpokchin.ca
SUMMARY:Taco + Veggies
DESCRIPTION:
URL:https://senpokchin.ca/event/taco-veggies/
END:VEVENT
BEGIN:VEVENT
DTSTART;TZID=America/Vancouver:20230123T120000
DTEND;TZID=America/Vancouver:20230123T130000
DTSTAMP:20260421T155357
CREATED:20221208T221512Z
LAST-MODIFIED:20221208T221513Z
UID:861-1674475200-1674478800@senpokchin.ca
SUMMARY:Sausage Tortellini Soup + Bun
DESCRIPTION:
URL:https://senpokchin.ca/event/sausage-tortellini-soup-bun-2/
END:VEVENT
BEGIN:VEVENT
DTSTART;TZID=America/Vancouver:20230120T120000
DTEND;TZID=America/Vancouver:20230120T130000
DTSTAMP:20260421T155357
CREATED:20221208T221356Z
LAST-MODIFIED:20221208T221357Z
UID:859-1674216000-1674219600@senpokchin.ca
SUMMARY:Grilled Cheese + Veggies
DESCRIPTION:
URL:https://senpokchin.ca/event/grilled-cheese-veggies-6/
END:VEVENT
BEGIN:VEVENT
DTSTART;TZID=America/Vancouver:20230120T083000
DTEND;TZID=America/Vancouver:20230120T150000
DTSTAMP:20260421T155357
CREATED:20230117T231728Z
LAST-MODIFIED:20230117T231729Z
UID:883-1674203400-1674226800@senpokchin.ca
SUMMARY:Mt. Baldy Skiing Field Trip - Gr.5-7
DESCRIPTION:
URL:https://senpokchin.ca/event/mt-baldy-skiing-field-trip-gr-5-7/
END:VEVENT
BEGIN:VEVENT
DTSTART;TZID=America/Vancouver:20230119T170000
DTEND;TZID=America/Vancouver:20230119T183000
DTSTAMP:20260421T155357
CREATED:20230117T231040Z
LAST-MODIFIED:20230117T231112Z
UID:875-1674147600-1674153000@senpokchin.ca
SUMMARY:Connect Parenting Group
DESCRIPTION:
URL:https://senpokchin.ca/event/connect-parenting-group-2/
END:VEVENT
BEGIN:VEVENT
DTSTART;TZID=America/Vancouver:20230119T120000
DTEND;TZID=America/Vancouver:20230119T130000
DTSTAMP:20260421T155357
CREATED:20221208T221259Z
LAST-MODIFIED:20221208T221259Z
UID:857-1674129600-1674133200@senpokchin.ca
SUMMARY:Beef Bunwitch + Veggies
DESCRIPTION:
URL:https://senpokchin.ca/event/beef-bunwitch-veggies/
END:VEVENT
BEGIN:VEVENT
DTSTART;TZID=America/Vancouver:20230118T120000
DTEND;TZID=America/Vancouver:20230118T130000
DTSTAMP:20260421T155357
CREATED:20221208T221040Z
LAST-MODIFIED:20221208T221040Z
UID:855-1674043200-1674046800@senpokchin.ca
SUMMARY:Mac N Cheese + Veggies
DESCRIPTION:
URL:https://senpokchin.ca/event/mac-n-cheese-veggies/
END:VEVENT
BEGIN:VEVENT
DTSTART;TZID=America/Vancouver:20221011T120000
DTEND;TZID=America/Vancouver:20221011T130000
DTSTAMP:20260421T155357
CREATED:20221005T212606Z
LAST-MODIFIED:20221027T182558Z
UID:683-1665489600-1665493200@senpokchin.ca
SUMMARY:Taco + Veggies
DESCRIPTION:
URL:https://senpokchin.ca/event/taco-veggies/
END:VEVENT
BEGIN:VEVENT
DTSTART;TZID=America/Vancouver:20230116T120000
DTEND;TZID=America/Vancouver:20230116T130000
DTSTAMP:20260421T155357
CREATED:20221208T220936Z
LAST-MODIFIED:20221208T220937Z
UID:853-1673870400-1673874000@senpokchin.ca
SUMMARY:Italian Wedding Soup + Bun
DESCRIPTION:
URL:https://senpokchin.ca/event/italian-wedding-soup-bun-2/
END:VEVENT
BEGIN:VEVENT
DTSTART;TZID=America/Vancouver:20230113T120000
DTEND;TZID=America/Vancouver:20230113T130000
DTSTAMP:20260421T155357
CREATED:20221208T220839Z
LAST-MODIFIED:20221208T220839Z
UID:851-1673611200-1673614800@senpokchin.ca
SUMMARY:Grilled Cheese + Veggies
DESCRIPTION:
URL:https://senpokchin.ca/event/grilled-cheese-veggies-5/
END:VEVENT
BEGIN:VEVENT
DTSTART;TZID=America/Vancouver:20230112T170000
DTEND;TZID=America/Vancouver:20230112T183000
DTSTAMP:20260421T155357
CREATED:20230117T231250Z
LAST-MODIFIED:20230117T231250Z
UID:877-1673542800-1673548200@senpokchin.ca
SUMMARY:Connect Parent Group
DESCRIPTION:
URL:https://senpokchin.ca/event/connect-parent-group/
END:VEVENT
BEGIN:VEVENT
DTSTART;TZID=America/Vancouver:20230112T120000
DTEND;TZID=America/Vancouver:20230112T130000
DTSTAMP:20260421T155357
CREATED:20221208T220458Z
LAST-MODIFIED:20221208T220459Z
UID:849-1673524800-1673528400@senpokchin.ca
SUMMARY:Chicken Bunwitch + Bun
DESCRIPTION:
URL:https://senpokchin.ca/event/chicken-bunwitch-bun/
END:VEVENT
BEGIN:VEVENT
DTSTART;TZID=America/Vancouver:20230112T083000
DTEND;TZID=America/Vancouver:20230112T150000
DTSTAMP:20260421T155357
CREATED:20230117T232130Z
LAST-MODIFIED:20230117T232130Z
UID:887-1673512200-1673535600@senpokchin.ca
SUMMARY:Tuc el nuit Lake Ice Fishing
DESCRIPTION:Grades K4-7
URL:https://senpokchin.ca/event/tuc-el-nuit-lake-ice-fishing/
END:VEVENT
BEGIN:VEVENT
DTSTART;TZID=America/Vancouver:20230111T120000
DTEND;TZID=America/Vancouver:20230111T130000
DTSTAMP:20260421T155357
CREATED:20221208T202724Z
LAST-MODIFIED:20221208T202725Z
UID:847-1673438400-1673442000@senpokchin.ca
SUMMARY:Spaghetti & Veggies
DESCRIPTION:
URL:https://senpokchin.ca/event/spaghetti-veggies/
END:VEVENT
BEGIN:VEVENT
DTSTART;TZID=America/Vancouver:20221011T120000
DTEND;TZID=America/Vancouver:20221011T130000
DTSTAMP:20260421T155357
CREATED:20221005T212606Z
LAST-MODIFIED:20221027T182558Z
UID:683-1665489600-1665493200@senpokchin.ca
SUMMARY:Taco + Veggies
DESCRIPTION:
URL:https://senpokchin.ca/event/taco-veggies/
END:VEVENT
BEGIN:VEVENT
DTSTART;TZID=America/Vancouver:20230109T120000
DTEND;TZID=America/Vancouver:20230109T130000
DTSTAMP:20260421T155357
CREATED:20221208T202600Z
LAST-MODIFIED:20221208T202600Z
UID:845-1673265600-1673269200@senpokchin.ca
SUMMARY:Ham/Potato Soup + Bun
DESCRIPTION:
URL:https://senpokchin.ca/event/ham-potato-soup-bun-2/
END:VEVENT
BEGIN:VEVENT
DTSTART;TZID=America/Vancouver:20230106T120000
DTEND;TZID=America/Vancouver:20230106T130000
DTSTAMP:20260421T155357
CREATED:20221208T202415Z
LAST-MODIFIED:20221208T202415Z
UID:843-1673006400-1673010000@senpokchin.ca
SUMMARY:Grilled Cheese & Veggies
DESCRIPTION:
URL:https://senpokchin.ca/event/grilled-cheese-veggies-4/
END:VEVENT
BEGIN:VEVENT
DTSTART;TZID=America/Vancouver:20230105T170000
DTEND;TZID=America/Vancouver:20230105T183000
DTSTAMP:20260421T155357
CREATED:20230117T230900Z
LAST-MODIFIED:20230117T230901Z
UID:873-1672938000-1672943400@senpokchin.ca
SUMMARY:Connect Parenting Group
DESCRIPTION:
URL:https://senpokchin.ca/event/connect-parenting-group/
END:VEVENT
BEGIN:VEVENT
DTSTART;TZID=America/Vancouver:20230105T120000
DTEND;TZID=America/Vancouver:20230105T130000
DTSTAMP:20260421T155357
CREATED:20221208T202228Z
LAST-MODIFIED:20221208T202228Z
UID:841-1672920000-1672923600@senpokchin.ca
SUMMARY:Beef Bunwitch with Veggies/Salad
DESCRIPTION:
URL:https://senpokchin.ca/event/beef-bunwitch-with-veggies-salad/
END:VEVENT
BEGIN:VEVENT
DTSTART;TZID=America/Vancouver:20230104T120000
DTEND;TZID=America/Vancouver:20230104T130000
DTSTAMP:20260421T155357
CREATED:20221208T201657Z
LAST-MODIFIED:20221208T201657Z
UID:839-1672833600-1672837200@senpokchin.ca
SUMMARY:Lasagna & Veggies
DESCRIPTION:
URL:https://senpokchin.ca/event/lasagna-veggies-2/
END:VEVENT
BEGIN:VEVENT
DTSTART;TZID=America/Vancouver:20230103T120000
DTEND;TZID=America/Vancouver:20230103T130000
DTSTAMP:20260421T155357
CREATED:20221208T201531Z
LAST-MODIFIED:20221208T201532Z
UID:837-1672747200-1672750800@senpokchin.ca
SUMMARY:Turkey Noodle Soup & Bun
DESCRIPTION:
URL:https://senpokchin.ca/event/turkey-noodle-soup-bun/
END:VEVENT
BEGIN:VEVENT
DTSTART;TZID=America/Vancouver:20221011T120000
DTEND;TZID=America/Vancouver:20221011T130000
DTSTAMP:20260421T155357
CREATED:20221005T212606Z
LAST-MODIFIED:20221027T182558Z
UID:683-1665489600-1665493200@senpokchin.ca
SUMMARY:Taco + Veggies
DESCRIPTION:
URL:https://senpokchin.ca/event/taco-veggies/
END:VEVENT
BEGIN:VEVENT
DTSTART;TZID=America/Vancouver:20221219T080000
DTEND;TZID=America/Vancouver:20221219T170000
DTSTAMP:20260421T155357
CREATED:20221205T233140Z
LAST-MODIFIED:20221205T233352Z
UID:812-1671436800-1671469200@senpokchin.ca
SUMMARY:Winter Break
DESCRIPTION:
URL:https://senpokchin.ca/event/winter-break/
END:VEVENT
BEGIN:VEVENT
DTSTART;TZID=America/Vancouver:20221219T080000
DTEND;TZID=America/Vancouver:20221219T170000
DTSTAMP:20260421T155357
CREATED:20221205T233140Z
LAST-MODIFIED:20221205T233352Z
UID:812-1671436800-1671469200@senpokchin.ca
SUMMARY:Winter Break
DESCRIPTION:
URL:https://senpokchin.ca/event/winter-break/
END:VEVENT
END:VCALENDAR