BEGIN:VCALENDAR
VERSION:2.0
PRODID:-//Senpaq&#039;cin School - ECPv6.11.2.1//NONSGML v1.0//EN
CALSCALE:GREGORIAN
METHOD:PUBLISH
X-ORIGINAL-URL:https://senpokchin.ca
X-WR-CALDESC:Events for Senpaq&#039;cin School
REFRESH-INTERVAL;VALUE=DURATION:PT1H
X-Robots-Tag:noindex
X-PUBLISHED-TTL:PT1H
BEGIN:VTIMEZONE
TZID:America/Vancouver
BEGIN:DAYLIGHT
TZOFFSETFROM:-0800
TZOFFSETTO:-0700
TZNAME:PDT
DTSTART:20220313T100000
END:DAYLIGHT
BEGIN:STANDARD
TZOFFSETFROM:-0700
TZOFFSETTO:-0800
TZNAME:PST
DTSTART:20221106T090000
END:STANDARD
BEGIN:DAYLIGHT
TZOFFSETFROM:-0800
TZOFFSETTO:-0700
TZNAME:PDT
DTSTART:20230312T100000
END:DAYLIGHT
BEGIN:STANDARD
TZOFFSETFROM:-0700
TZOFFSETTO:-0800
TZNAME:PST
DTSTART:20231105T090000
END:STANDARD
END:VTIMEZONE
BEGIN:VEVENT
DTSTART;TZID=America/Vancouver:20221011T120000
DTEND;TZID=America/Vancouver:20221011T130000
DTSTAMP:20260421T102254
CREATED:20221005T212606Z
LAST-MODIFIED:20221027T182558Z
UID:683-1665489600-1665493200@senpokchin.ca
SUMMARY:Taco + Veggies
DESCRIPTION:
URL:https://senpokchin.ca/event/taco-veggies/
END:VEVENT
BEGIN:VEVENT
DTSTART;TZID=America/Vancouver:20230424T120000
DTEND;TZID=America/Vancouver:20230424T130000
DTSTAMP:20260421T102254
CREATED:20230307T200333Z
LAST-MODIFIED:20230307T200334Z
UID:959-1682337600-1682341200@senpokchin.ca
SUMMARY:Lunch: Cream of Potato Bacon Soup + Bun
DESCRIPTION:
URL:https://senpokchin.ca/event/lunch-cream-of-potato-bacon-soup-bun/
END:VEVENT
BEGIN:VEVENT
DTSTART;TZID=America/Vancouver:20230421T120000
DTEND;TZID=America/Vancouver:20230421T130000
DTSTAMP:20260421T102254
CREATED:20230307T200231Z
LAST-MODIFIED:20230307T200231Z
UID:957-1682078400-1682082000@senpokchin.ca
SUMMARY:Lunch: Grilled Cheese + Veggies
DESCRIPTION:
URL:https://senpokchin.ca/event/lunch-grilled-cheese-veggies-4/
END:VEVENT
BEGIN:VEVENT
DTSTART;TZID=America/Vancouver:20230420T120000
DTEND;TZID=America/Vancouver:20230420T130000
DTSTAMP:20260421T102254
CREATED:20230307T200130Z
LAST-MODIFIED:20230307T200131Z
UID:955-1681992000-1681995600@senpokchin.ca
SUMMARY:Lunch: Chicken Bunwich + Veggies
DESCRIPTION:
URL:https://senpokchin.ca/event/lunch-chicken-bunwich-veggies-2/
END:VEVENT
BEGIN:VEVENT
DTSTART;TZID=America/Vancouver:20230419T120000
DTEND;TZID=America/Vancouver:20230419T130000
DTSTAMP:20260421T102254
CREATED:20230307T200024Z
LAST-MODIFIED:20230307T200025Z
UID:953-1681905600-1681909200@senpokchin.ca
SUMMARY:Lunch: Mac N Cheese + Veggies
DESCRIPTION:
URL:https://senpokchin.ca/event/lunch-mac-n-cheese-veggies-2/
END:VEVENT
BEGIN:VEVENT
DTSTART;TZID=America/Vancouver:20221011T120000
DTEND;TZID=America/Vancouver:20221011T130000
DTSTAMP:20260421T102254
CREATED:20221005T212606Z
LAST-MODIFIED:20221027T182558Z
UID:683-1665489600-1665493200@senpokchin.ca
SUMMARY:Taco + Veggies
DESCRIPTION:
URL:https://senpokchin.ca/event/taco-veggies/
END:VEVENT
BEGIN:VEVENT
DTSTART;TZID=America/Vancouver:20230417T120000
DTEND;TZID=America/Vancouver:20230417T130000
DTSTAMP:20260421T102254
CREATED:20230307T195322Z
LAST-MODIFIED:20230307T195323Z
UID:951-1681732800-1681736400@senpokchin.ca
SUMMARY:Lunch: Italian Wedding Soup + Bun
DESCRIPTION:
URL:https://senpokchin.ca/event/lunch-italian-wedding-soup-bun/
END:VEVENT
BEGIN:VEVENT
DTSTART;TZID=America/Vancouver:20230414T120000
DTEND;TZID=America/Vancouver:20230414T130000
DTSTAMP:20260421T102254
CREATED:20230307T195222Z
LAST-MODIFIED:20230307T195223Z
UID:949-1681473600-1681477200@senpokchin.ca
SUMMARY:Lunch: Grilled Cheese + Veggies
DESCRIPTION:
URL:https://senpokchin.ca/event/lunch-grilled-cheese-veggies-3/
END:VEVENT
BEGIN:VEVENT
DTSTART;TZID=America/Vancouver:20230413T120000
DTEND;TZID=America/Vancouver:20230413T130000
DTSTAMP:20260421T102254
CREATED:20230307T194956Z
LAST-MODIFIED:20230307T194956Z
UID:947-1681387200-1681390800@senpokchin.ca
SUMMARY:Lunch: Salmon or Tuna Bunwich +Veggies
DESCRIPTION:
URL:https://senpokchin.ca/event/lunch-salmon-or-tuna-bunwich-veggies/
END:VEVENT
BEGIN:VEVENT
DTSTART;TZID=America/Vancouver:20230412T120000
DTEND;TZID=America/Vancouver:20230412T130000
DTSTAMP:20260421T102254
CREATED:20230307T194735Z
LAST-MODIFIED:20230307T194736Z
UID:945-1681300800-1681304400@senpokchin.ca
SUMMARY:Lunch: Lasagna + Veggies
DESCRIPTION:
URL:https://senpokchin.ca/event/lunch-lasagna-veggies-2/
END:VEVENT
BEGIN:VEVENT
DTSTART;TZID=America/Vancouver:20221011T120000
DTEND;TZID=America/Vancouver:20221011T130000
DTSTAMP:20260421T102254
CREATED:20221005T212606Z
LAST-MODIFIED:20221027T182558Z
UID:683-1665489600-1665493200@senpokchin.ca
SUMMARY:Taco + Veggies
DESCRIPTION:
URL:https://senpokchin.ca/event/taco-veggies/
END:VEVENT
BEGIN:VEVENT
DTSTART;TZID=America/Vancouver:20230410T080000
DTEND;TZID=America/Vancouver:20230410T160000
DTSTAMP:20260421T102254
CREATED:20230307T194527Z
LAST-MODIFIED:20230307T194528Z
UID:943-1681113600-1681142400@senpokchin.ca
SUMMARY:Easter Monday - School Closed
DESCRIPTION:
URL:https://senpokchin.ca/event/easter-monday-school-closed/
END:VEVENT
BEGIN:VEVENT
DTSTART;TZID=America/Vancouver:20230407T080000
DTEND;TZID=America/Vancouver:20230407T160000
DTSTAMP:20260421T102254
CREATED:20230307T194433Z
LAST-MODIFIED:20230307T194612Z
UID:941-1680854400-1680883200@senpokchin.ca
SUMMARY:Good Friday - School Closed
DESCRIPTION:
URL:https://senpokchin.ca/event/good-friday-school-closed/
END:VEVENT
BEGIN:VEVENT
DTSTART;TZID=America/Vancouver:20230406T120000
DTEND;TZID=America/Vancouver:20230406T130000
DTSTAMP:20260421T102254
CREATED:20230307T194325Z
LAST-MODIFIED:20230307T194326Z
UID:939-1680782400-1680786000@senpokchin.ca
SUMMARY:Lunch: Pork Bunwich + Veggies
DESCRIPTION:
URL:https://senpokchin.ca/event/lunch-pork-bunwich-veggies/
END:VEVENT
BEGIN:VEVENT
DTSTART;TZID=America/Vancouver:20230405T120000
DTEND;TZID=America/Vancouver:20230405T130000
DTSTAMP:20260421T102254
CREATED:20230307T194212Z
LAST-MODIFIED:20230307T194213Z
UID:937-1680696000-1680699600@senpokchin.ca
SUMMARY:Lunch: Salmon/Mashed Potatoes/Veggies
DESCRIPTION:
URL:https://senpokchin.ca/event/lunch-salmon-mashed-potatoes-veggies/
END:VEVENT
BEGIN:VEVENT
DTSTART;TZID=America/Vancouver:20221011T120000
DTEND;TZID=America/Vancouver:20221011T130000
DTSTAMP:20260421T102254
CREATED:20221005T212606Z
LAST-MODIFIED:20221027T182558Z
UID:683-1665489600-1665493200@senpokchin.ca
SUMMARY:Taco + Veggies
DESCRIPTION:
URL:https://senpokchin.ca/event/taco-veggies/
END:VEVENT
BEGIN:VEVENT
DTSTART;TZID=America/Vancouver:20230403T120000
DTEND;TZID=America/Vancouver:20230403T130000
DTSTAMP:20260421T102254
CREATED:20230307T194101Z
LAST-MODIFIED:20230307T194101Z
UID:935-1680523200-1680526800@senpokchin.ca
SUMMARY:Lunch: Hamburger Soup + Bun
DESCRIPTION:
URL:https://senpokchin.ca/event/lunch-hamburger-soup-bun/
END:VEVENT
BEGIN:VEVENT
DTSTART;TZID=America/Vancouver:20230403T080000
DTEND;TZID=America/Vancouver:20230403T160000
DTSTAMP:20260421T102254
CREATED:20230307T192446Z
LAST-MODIFIED:20230307T192447Z
UID:915-1680508800-1680537600@senpokchin.ca
SUMMARY:First Day Back to School after Spring Break
DESCRIPTION:
URL:https://senpokchin.ca/event/first-day-back-to-school-after-spring-break/
END:VEVENT
BEGIN:VEVENT
DTSTART;TZID=America/Vancouver:20221011T120000
DTEND;TZID=America/Vancouver:20221011T130000
DTSTAMP:20260421T102254
CREATED:20221005T212606Z
LAST-MODIFIED:20221027T182558Z
UID:683-1665489600-1665493200@senpokchin.ca
SUMMARY:Taco + Veggies
DESCRIPTION:
URL:https://senpokchin.ca/event/taco-veggies/
END:VEVENT
BEGIN:VEVENT
DTSTART;TZID=America/Vancouver:20221011T120000
DTEND;TZID=America/Vancouver:20221011T130000
DTSTAMP:20260421T102254
CREATED:20221005T212606Z
LAST-MODIFIED:20221027T182558Z
UID:683-1665489600-1665493200@senpokchin.ca
SUMMARY:Taco + Veggies
DESCRIPTION:
URL:https://senpokchin.ca/event/taco-veggies/
END:VEVENT
BEGIN:VEVENT
DTSTART;TZID=America/Vancouver:20230320T080000
DTEND;TZID=America/Vancouver:20230402T170000
DTSTAMP:20260421T102254
CREATED:20230307T192343Z
LAST-MODIFIED:20230307T192344Z
UID:913-1679299200-1680454800@senpokchin.ca
SUMMARY:Spring Break
DESCRIPTION:
URL:https://senpokchin.ca/event/spring-break/
END:VEVENT
BEGIN:VEVENT
DTSTART;TZID=America/Vancouver:20230317T120000
DTEND;TZID=America/Vancouver:20230317T130000
DTSTAMP:20260421T102254
CREATED:20230307T192207Z
LAST-MODIFIED:20230307T192207Z
UID:911-1679054400-1679058000@senpokchin.ca
SUMMARY:Lunch: Pizza
DESCRIPTION:
URL:https://senpokchin.ca/event/lunch-pizza/
END:VEVENT
BEGIN:VEVENT
DTSTART;TZID=America/Vancouver:20230317T080000
DTEND;TZID=America/Vancouver:20230317T160000
DTSTAMP:20260421T102254
CREATED:20230307T193851Z
LAST-MODIFIED:20230307T193852Z
UID:933-1679040000-1679068800@senpokchin.ca
SUMMARY:Last day of school before Spring Break
DESCRIPTION:
URL:https://senpokchin.ca/event/last-day-of-school-before-spring-break/
END:VEVENT
BEGIN:VEVENT
DTSTART;TZID=America/Vancouver:20230316T090000
DTEND;TZID=America/Vancouver:20230316T170000
DTSTAMP:20260421T102254
CREATED:20230307T192109Z
LAST-MODIFIED:20230307T192110Z
UID:909-1678957200-1678986000@senpokchin.ca
SUMMARY:Parent/Teacher/Student Led Conference - No School
DESCRIPTION:
URL:https://senpokchin.ca/event/parent-teacher-student-led-conference-no-school/
END:VEVENT
BEGIN:VEVENT
DTSTART;TZID=America/Vancouver:20230315T120000
DTEND;TZID=America/Vancouver:20230315T130000
DTSTAMP:20260421T102254
CREATED:20230307T191920Z
LAST-MODIFIED:20230307T191921Z
UID:907-1678881600-1678885200@senpokchin.ca
SUMMARY:Lunch: Lasagna + Veggies
DESCRIPTION:
URL:https://senpokchin.ca/event/lunch-lasagna-veggies/
END:VEVENT
BEGIN:VEVENT
DTSTART;TZID=America/Vancouver:20230315T100000
DTEND;TZID=America/Vancouver:20230315T120000
DTSTAMP:20260421T102254
CREATED:20230307T193752Z
LAST-MODIFIED:20230307T193752Z
UID:931-1678874400-1678881600@senpokchin.ca
SUMMARY:SPC Pow Wow
DESCRIPTION:Parents are welcome to attend
URL:https://senpokchin.ca/event/spc-pow-wow/
END:VEVENT
BEGIN:VEVENT
DTSTART;TZID=America/Vancouver:20221011T120000
DTEND;TZID=America/Vancouver:20221011T130000
DTSTAMP:20260421T102254
CREATED:20221005T212606Z
LAST-MODIFIED:20221027T182558Z
UID:683-1665489600-1665493200@senpokchin.ca
SUMMARY:Taco + Veggies
DESCRIPTION:
URL:https://senpokchin.ca/event/taco-veggies/
END:VEVENT
BEGIN:VEVENT
DTSTART;TZID=America/Vancouver:20230313T120000
DTEND;TZID=America/Vancouver:20230313T130000
DTSTAMP:20260421T102254
CREATED:20230307T191755Z
LAST-MODIFIED:20230307T191756Z
UID:905-1678708800-1678712400@senpokchin.ca
SUMMARY:Lunch: Lasagna Soup + Veggies
DESCRIPTION:
URL:https://senpokchin.ca/event/lunch-lasagna-soup-veggies/
END:VEVENT
BEGIN:VEVENT
DTSTART;TZID=America/Vancouver:20230313T083000
DTEND;TZID=America/Vancouver:20230316T150000
DTSTAMP:20260421T102254
CREATED:20230307T193630Z
LAST-MODIFIED:20230307T193630Z
UID:929-1678696200-1678978800@senpokchin.ca
SUMMARY:Scholastic Book Fair
DESCRIPTION:
URL:https://senpokchin.ca/event/scholastic-book-fair/
END:VEVENT
BEGIN:VEVENT
DTSTART;TZID=America/Vancouver:20230310T120000
DTEND;TZID=America/Vancouver:20230310T130000
DTSTAMP:20260421T102254
CREATED:20230307T191617Z
LAST-MODIFIED:20230307T191618Z
UID:903-1678449600-1678453200@senpokchin.ca
SUMMARY:Lunch: Grilled Cheese + Veggies
DESCRIPTION:
URL:https://senpokchin.ca/event/lunch-grilled-cheese-veggies-2/
END:VEVENT
END:VCALENDAR