BEGIN:VCALENDAR
VERSION:2.0
PRODID:-//Senpaq&#039;cin School - ECPv6.11.2.1//NONSGML v1.0//EN
CALSCALE:GREGORIAN
METHOD:PUBLISH
X-ORIGINAL-URL:https://senpokchin.ca
X-WR-CALDESC:Events for Senpaq&#039;cin School
REFRESH-INTERVAL;VALUE=DURATION:PT1H
X-Robots-Tag:noindex
X-PUBLISHED-TTL:PT1H
BEGIN:VTIMEZONE
TZID:America/Vancouver
BEGIN:DAYLIGHT
TZOFFSETFROM:-0800
TZOFFSETTO:-0700
TZNAME:PDT
DTSTART:20220313T100000
END:DAYLIGHT
BEGIN:STANDARD
TZOFFSETFROM:-0700
TZOFFSETTO:-0800
TZNAME:PST
DTSTART:20221106T090000
END:STANDARD
BEGIN:DAYLIGHT
TZOFFSETFROM:-0800
TZOFFSETTO:-0700
TZNAME:PDT
DTSTART:20230312T100000
END:DAYLIGHT
BEGIN:STANDARD
TZOFFSETFROM:-0700
TZOFFSETTO:-0800
TZNAME:PST
DTSTART:20231105T090000
END:STANDARD
END:VTIMEZONE
BEGIN:VEVENT
DTSTART;TZID=America/Vancouver:20230524T140000
DTEND;TZID=America/Vancouver:20230524T143000
DTSTAMP:20260421T061904
CREATED:20230503T190119Z
LAST-MODIFIED:20230503T190119Z
UID:1018-1684936800-1684938600@senpokchin.ca
SUMMARY:Gr.2 Swimming
DESCRIPTION:
URL:https://senpokchin.ca/event/gr-2-swimming/
END:VEVENT
BEGIN:VEVENT
DTSTART;TZID=America/Vancouver:20230524T120000
DTEND;TZID=America/Vancouver:20230524T130000
DTSTAMP:20260421T061904
CREATED:20230503T220457Z
LAST-MODIFIED:20230503T220458Z
UID:1057-1684929600-1684933200@senpokchin.ca
SUMMARY:Lunch: Lasagna + Veggies
DESCRIPTION:
URL:https://senpokchin.ca/event/lunch-lasagna-veggies-3/
END:VEVENT
BEGIN:VEVENT
DTSTART;TZID=America/Vancouver:20221011T120000
DTEND;TZID=America/Vancouver:20221011T130000
DTSTAMP:20260421T061904
CREATED:20221005T212606Z
LAST-MODIFIED:20221027T182558Z
UID:683-1665489600-1665493200@senpokchin.ca
SUMMARY:Taco + Veggies
DESCRIPTION:
URL:https://senpokchin.ca/event/taco-veggies/
END:VEVENT
BEGIN:VEVENT
DTSTART;TZID=America/Vancouver:20230523T110000
DTEND;TZID=America/Vancouver:20230523T115000
DTSTAMP:20260421T061904
CREATED:20230503T190023Z
LAST-MODIFIED:20230503T190024Z
UID:1016-1684839600-1684842600@senpokchin.ca
SUMMARY:Gr.5-7 Lacrosse
DESCRIPTION:
URL:https://senpokchin.ca/event/gr-5-7-lacrosse-2/
END:VEVENT
BEGIN:VEVENT
DTSTART;TZID=America/Vancouver:20230522T080000
DTEND;TZID=America/Vancouver:20230522T170000
DTSTAMP:20260421T061904
CREATED:20230503T185904Z
LAST-MODIFIED:20230503T185904Z
UID:1014-1684742400-1684774800@senpokchin.ca
SUMMARY:Victoria Day
DESCRIPTION:School Closed
URL:https://senpokchin.ca/event/victoria-day/
END:VEVENT
BEGIN:VEVENT
DTSTART;TZID=America/Vancouver:20230519T120000
DTEND;TZID=America/Vancouver:20230519T130000
DTSTAMP:20260421T061904
CREATED:20230503T220402Z
LAST-MODIFIED:20230503T220403Z
UID:1055-1684497600-1684501200@senpokchin.ca
SUMMARY:Lunch: Grilled Cheese + Veggies
DESCRIPTION:
URL:https://senpokchin.ca/event/lunch-grilled-cheese-veggies-7/
END:VEVENT
BEGIN:VEVENT
DTSTART;TZID=America/Vancouver:20230518T120000
DTEND;TZID=America/Vancouver:20230518T130000
DTSTAMP:20260421T061904
CREATED:20230503T220306Z
LAST-MODIFIED:20230503T220307Z
UID:1053-1684411200-1684414800@senpokchin.ca
SUMMARY:Lunch: Chicken Bunwich + Veggies
DESCRIPTION:
URL:https://senpokchin.ca/event/lunch-chicken-bunwich-veggies-3/
END:VEVENT
BEGIN:VEVENT
DTSTART;TZID=America/Vancouver:20230518T083000
DTEND;TZID=America/Vancouver:20230518T150000
DTSTAMP:20260421T061904
CREATED:20230503T185754Z
LAST-MODIFIED:20230503T185755Z
UID:1012-1684398600-1684422000@senpokchin.ca
SUMMARY:Gr.3 Lacrosse
DESCRIPTION:
URL:https://senpokchin.ca/event/gr-3-lacrosse/
END:VEVENT
BEGIN:VEVENT
DTSTART;TZID=America/Vancouver:20230518T083000
DTEND;TZID=America/Vancouver:20230518T150000
DTSTAMP:20260421T061904
CREATED:20230503T185634Z
LAST-MODIFIED:20230503T185635Z
UID:1010-1684398600-1684422000@senpokchin.ca
SUMMARY:Spirit North Mountain Biking Gr.2-7
DESCRIPTION:
URL:https://senpokchin.ca/event/spirit-north-mountain-biking-gr-2-7-3/
END:VEVENT
BEGIN:VEVENT
DTSTART;TZID=America/Vancouver:20230518T083000
DTEND;TZID=America/Vancouver:20230518T150000
DTSTAMP:20260421T061904
CREATED:20230503T185528Z
LAST-MODIFIED:20230503T185529Z
UID:1008-1684398600-1684422000@senpokchin.ca
SUMMARY:Gr.6 Immunization
DESCRIPTION:
URL:https://senpokchin.ca/event/gr-6-immunization/
END:VEVENT
BEGIN:VEVENT
DTSTART;TZID=America/Vancouver:20230517T120000
DTEND;TZID=America/Vancouver:20230517T130000
DTSTAMP:20260421T061904
CREATED:20230503T215909Z
LAST-MODIFIED:20230503T215910Z
UID:1051-1684324800-1684328400@senpokchin.ca
SUMMARY:Lunch: Mac N Cheese + Veggies
DESCRIPTION:
URL:https://senpokchin.ca/event/lunch-mac-n-cheese-veggies-3/
END:VEVENT
BEGIN:VEVENT
DTSTART;TZID=America/Vancouver:20221011T120000
DTEND;TZID=America/Vancouver:20221011T130000
DTSTAMP:20260421T061904
CREATED:20221005T212606Z
LAST-MODIFIED:20221027T182558Z
UID:683-1665489600-1665493200@senpokchin.ca
SUMMARY:Taco + Veggies
DESCRIPTION:
URL:https://senpokchin.ca/event/taco-veggies/
END:VEVENT
BEGIN:VEVENT
DTSTART;TZID=America/Vancouver:20230516T110000
DTEND;TZID=America/Vancouver:20230516T113000
DTSTAMP:20260421T061904
CREATED:20230503T185423Z
LAST-MODIFIED:20230503T185424Z
UID:1006-1684234800-1684236600@senpokchin.ca
SUMMARY:Gr.4 Lacrosse
DESCRIPTION:
URL:https://senpokchin.ca/event/gr-4-lacrosse/
END:VEVENT
BEGIN:VEVENT
DTSTART;TZID=America/Vancouver:20230515T120000
DTEND;TZID=America/Vancouver:20230515T130000
DTSTAMP:20260421T061904
CREATED:20230503T215045Z
LAST-MODIFIED:20230503T215045Z
UID:1049-1684152000-1684155600@senpokchin.ca
SUMMARY:Lunch: Pork & Potato Soup + Bun
DESCRIPTION:
URL:https://senpokchin.ca/event/lunch-pork-potato-soup-bun/
END:VEVENT
BEGIN:VEVENT
DTSTART;TZID=America/Vancouver:20230515T083000
DTEND;TZID=America/Vancouver:20230515T150000
DTSTAMP:20260421T061904
CREATED:20230503T185317Z
LAST-MODIFIED:20230503T185318Z
UID:1004-1684139400-1684162800@senpokchin.ca
SUMMARY:Geering Up
DESCRIPTION:
URL:https://senpokchin.ca/event/geering-up/
END:VEVENT
BEGIN:VEVENT
DTSTART;TZID=America/Vancouver:20230512T120000
DTEND;TZID=America/Vancouver:20230512T130000
DTSTAMP:20260421T061904
CREATED:20230503T214938Z
LAST-MODIFIED:20230503T214938Z
UID:1047-1683892800-1683896400@senpokchin.ca
SUMMARY:Lunch: Grilled Cheese + Veggies
DESCRIPTION:
URL:https://senpokchin.ca/event/lunch-grilled-cheese-veggies-6/
END:VEVENT
BEGIN:VEVENT
DTSTART;TZID=America/Vancouver:20230511T120000
DTEND;TZID=America/Vancouver:20230511T130000
DTSTAMP:20260421T061904
CREATED:20230503T214829Z
LAST-MODIFIED:20230503T214829Z
UID:1045-1683806400-1683810000@senpokchin.ca
SUMMARY:Lunch: Pork Bunwich + Veggies
DESCRIPTION:
URL:https://senpokchin.ca/event/lunch-pork-bunwich-veggies-2/
END:VEVENT
BEGIN:VEVENT
DTSTART;TZID=America/Vancouver:20230511T083000
DTEND;TZID=America/Vancouver:20230511T150000
DTSTAMP:20260421T061904
CREATED:20230503T185223Z
LAST-MODIFIED:20230503T185223Z
UID:1002-1683793800-1683817200@senpokchin.ca
SUMMARY:Spirit North Mountain Biking Gr. 2-7
DESCRIPTION:
URL:https://senpokchin.ca/event/spirit-north-mountain-biking-gr-2-7-2/
END:VEVENT
BEGIN:VEVENT
DTSTART;TZID=America/Vancouver:20230510T120000
DTEND;TZID=America/Vancouver:20230510T130000
DTSTAMP:20260421T061904
CREATED:20230503T214701Z
LAST-MODIFIED:20230503T214701Z
UID:1043-1683720000-1683723600@senpokchin.ca
SUMMARY:Lunch: Salmon/Potatoes/Veggies
DESCRIPTION:
URL:https://senpokchin.ca/event/lunch-salmon-potatoes-veggies/
END:VEVENT
BEGIN:VEVENT
DTSTART;TZID=America/Vancouver:20230510T101500
DTEND;TZID=America/Vancouver:20230510T114500
DTSTAMP:20260421T061904
CREATED:20230503T185108Z
LAST-MODIFIED:20230503T185108Z
UID:1000-1683713700-1683719100@senpokchin.ca
SUMMARY:K5 Tuc el nuit School Field Trip
DESCRIPTION:
URL:https://senpokchin.ca/event/k5-tuc-el-nuit-school-field-trip/
END:VEVENT
BEGIN:VEVENT
DTSTART;TZID=America/Vancouver:20230510T080000
DTEND;TZID=America/Vancouver:20230510T160000
DTSTAMP:20260421T061904
CREATED:20230503T184929Z
LAST-MODIFIED:20230503T184930Z
UID:998-1683705600-1683734400@senpokchin.ca
SUMMARY:Diabetes Awareness
DESCRIPTION:
URL:https://senpokchin.ca/event/diabetes-awareness/
END:VEVENT
BEGIN:VEVENT
DTSTART;TZID=America/Vancouver:20221011T120000
DTEND;TZID=America/Vancouver:20221011T130000
DTSTAMP:20260421T061904
CREATED:20221005T212606Z
LAST-MODIFIED:20221027T182558Z
UID:683-1665489600-1665493200@senpokchin.ca
SUMMARY:Taco + Veggies
DESCRIPTION:
URL:https://senpokchin.ca/event/taco-veggies/
END:VEVENT
BEGIN:VEVENT
DTSTART;TZID=America/Vancouver:20230509T110000
DTEND;TZID=America/Vancouver:20230509T115000
DTSTAMP:20260421T061904
CREATED:20230503T184823Z
LAST-MODIFIED:20230503T184823Z
UID:996-1683630000-1683633000@senpokchin.ca
SUMMARY:Gr. 5-7 Lacrosse
DESCRIPTION:
URL:https://senpokchin.ca/event/gr-5-7-lacrosse/
END:VEVENT
BEGIN:VEVENT
DTSTART;TZID=America/Vancouver:20230508T120000
DTEND;TZID=America/Vancouver:20230508T130000
DTSTAMP:20260421T061904
CREATED:20230503T191807Z
LAST-MODIFIED:20230503T191808Z
UID:1041-1683547200-1683550800@senpokchin.ca
SUMMARY:Chicken Gnocchi Soup + Bun
DESCRIPTION:
URL:https://senpokchin.ca/event/chicken-gnocchi-soup-bun-3/
END:VEVENT
BEGIN:VEVENT
DTSTART;TZID=America/Vancouver:20230508T084500
DTEND;TZID=America/Vancouver:20230508T100000
DTSTAMP:20260421T061904
CREATED:20230503T184628Z
LAST-MODIFIED:20230503T184708Z
UID:993-1683535500-1683540000@senpokchin.ca
SUMMARY:Fry Release at Forbes Wetland Trail and Okanagan River
DESCRIPTION:Grades K4\, K5\, 3
URL:https://senpokchin.ca/event/fry-release-at-forbes-wetland-trail-and-okanagan-river/
END:VEVENT
BEGIN:VEVENT
DTSTART;TZID=America/Vancouver:20230505T120000
DTEND;TZID=America/Vancouver:20230505T130000
DTSTAMP:20260421T061904
CREATED:20230503T191548Z
LAST-MODIFIED:20230503T191549Z
UID:1038-1683288000-1683291600@senpokchin.ca
SUMMARY:Lunch: Grilled Cheese + Veggies
DESCRIPTION:
URL:https://senpokchin.ca/event/lunch-grilled-cheese-veggies-5/
END:VEVENT
BEGIN:VEVENT
DTSTART;TZID=America/Vancouver:20230504T120000
DTEND;TZID=America/Vancouver:20230504T130000
DTSTAMP:20260421T061904
CREATED:20230503T191337Z
LAST-MODIFIED:20230503T191337Z
UID:1036-1683201600-1683205200@senpokchin.ca
SUMMARY:Lunch: Salmon or Tuna Bunwich + Veggies
DESCRIPTION:
URL:https://senpokchin.ca/event/lunch-salmon-or-tuna-bunwich-veggies-2/
END:VEVENT
BEGIN:VEVENT
DTSTART;TZID=America/Vancouver:20230504T083000
DTEND;TZID=America/Vancouver:20230504T150000
DTSTAMP:20260421T061904
CREATED:20230503T184429Z
LAST-MODIFIED:20230503T184429Z
UID:991-1683189000-1683212400@senpokchin.ca
SUMMARY:Spirit North Mountain Biking Gr. 2-7
DESCRIPTION:
URL:https://senpokchin.ca/event/spirit-north-mountain-biking-gr-2-7/
END:VEVENT
BEGIN:VEVENT
DTSTART;TZID=America/Vancouver:20230504T083000
DTEND;TZID=America/Vancouver:20230504T084500
DTSTAMP:20260421T061904
CREATED:20230503T184125Z
LAST-MODIFIED:20230503T184202Z
UID:989-1683189000-1683189900@senpokchin.ca
SUMMARY:Cat Shelter at morning circle
DESCRIPTION:Gr. 4 Girls
URL:https://senpokchin.ca/event/cat-shelter-at-morning-circle/
END:VEVENT
BEGIN:VEVENT
DTSTART;TZID=America/Vancouver:20230503T120000
DTEND;TZID=America/Vancouver:20230503T130000
DTSTAMP:20260421T061904
CREATED:20230503T191218Z
LAST-MODIFIED:20230503T191218Z
UID:1034-1683115200-1683118800@senpokchin.ca
SUMMARY:Lunch: Macaroni Bake + Veggies
DESCRIPTION:
URL:https://senpokchin.ca/event/lunch-macaroni-bake-veggies/
END:VEVENT
END:VCALENDAR